BEGIN:VCALENDAR
VERSION:2.0
PRODID:-//wp-events-plugin.com//7.2.3.1//EN
TZID:Europe/Berlin
X-WR-TIMEZONE:Europe/Berlin
BEGIN:VEVENT
UID:11-577@spd-gonsenheim.de
DTSTART;TZID=Europe/Berlin:20180413T193000
DTEND;TZID=Europe/Berlin:20180413T193000
DTSTAMP:20180327T210000Z
URL:https://spd-gonsenheim.de/termine/events/stammtisch/
SUMMARY:Stammtisch
DESCRIPTION:Der SPD Ortsverein Mainz-Gonsenheim lädt herzlich zum ersten M
 itgliederstammtisch 2018 ein. Themen\, über die man bei Bier\, Wein und g
 utem Essen diskutieren kann\, gibt es bekanntlich zur Genüge: Groko-Start
 \, Wechsel an der Spitze der Bundespartei\, #SPDerneuern\, Europa etc.\n\n
 Neumitgliedern\, “Altgedienten” aber auch Interessierten bietet sich d
 ie Möglichkeit\, unabhängig von Vorstandssitzungen miteinander in Kontak
 t zu kommen und ungezwungen über Politik zu diskutieren.\n\nWann: Freitag
 \, 13.04.2018\, ab 19.30 Uhr\nWo: Restaurant zum Gutenberg\, Heidesheimer 
 Str. 11\, 55124 Mainz-Gonsenheim\n\nWir freuen uns auf angeregte Gespräch
 e und Diskussionen!
CATEGORIES:SPD Mainz-Gonsenheim
LOCATION:Restaurant Zum Gutenberg\, Heidesheimer Str. 11\, Mainz\, 55124
GEO:50.0004797;8.204131899999993
X-APPLE-STRUCTURED-LOCATION;VALUE=URI;X-ADDRESS=Heidesheimer Str. 11\, Main
 z\, 55124\, Deutschland;X-APPLE-RADIUS=100;X-TITLE=Restaurant Zum Gutenber
 g:geo:50.0004797,8.204131899999993
END:VEVENT
BEGIN:VTIMEZONE
TZID:Europe/Berlin
X-LIC-LOCATION:Europe/Berlin
BEGIN:DAYLIGHT
DTSTART:20180325T030000
TZOFFSETFROM:+0100
TZOFFSETTO:+0200
TZNAME:CEST
END:DAYLIGHT
END:VTIMEZONE
END:VCALENDAR